BEGIN:VCALENDAR
VERSION:2.0
CALSCALE:GREGORIAN
PRODID:-//Diputació de Barcelona//DibaCMS//EN
BEGIN:VEVENT
UID:4161
DTSTAMP:20260421T225753
DTSTART:20240304T000000
DTEND:20290301T000000
SUMMARY:18 de març: nova oportunitat per renovar-te el DNI a Dosrius
LOCATION:
METHOD:PUBLISH
X-WR-CALNAME:dosrius@dosrius.cat
X-WR-TIMEZONE:Europe/Madrid
DESCRIPTION:
La recollida de documents es farà el 18 de març. Totes les persones interessades hauran de trucar al 93 791 80 14 per tal de concertar cita prèvia.

URI:https://www.dosrius.cat/actualitat/noticies/18-de-marc-nova-oportunitat-per-renovar-te-el-dni-a-dosrius.html
CLASS:PUBLIC
END:VEVENT
END:VCALENDAR
