BEGIN:VCALENDAR
VERSION:2.0
CALSCALE:GREGORIAN
PRODID:-//Diputació de Barcelona//DibaCMS//EN
BEGIN:VEVENT
UID:4158
DTSTAMP:20260422T013343
DTSTART:20240304T000000
DTEND:20300301T000000
SUMMARY:Alerta de Salut per la retirada del mercat d’una colònia
LOCATION:
METHOD:PUBLISH
X-WR-CALNAME:dosrius@dosrius.cat
X-WR-TIMEZONE:Europe/Madrid
DESCRIPTION:
L’informe afecta la colònia Arian pour femme, que conté butylphenyl methylpropional, una substància prohibida en productes cosmètics.

URI:https://www.dosrius.cat/actualitat/noticies/alerta-de-salut-per-la-retirada-del-mercat-duna-colonia.html
CLASS:PUBLIC
END:VEVENT
END:VCALENDAR
