BEGIN:VCALENDAR
VERSION:2.0
CALSCALE:GREGORIAN
PRODID:-//Diputació de Barcelona//DibaCMS//EN
BEGIN:VEVENT
UID:4157
DTSTAMP:20260422T101407
DTSTART:20240302T000000
DTEND:20290309T000000
SUMMARY:Dosrius disposa d’un nou DEA a la fàbrica La Tortuga
LOCATION:
METHOD:PUBLISH
X-WR-CALNAME:dosrius@dosrius.cat
X-WR-TIMEZONE:Europe/Madrid
DESCRIPTION:
Aquest equip se suma als vuit dispositius DEA que ja hi ha desplegats en diferents punts de Dosrius, Canyamars i Can Massuet del Far. Aquests desfibril·ladors estan preparats per a ser utilitzats per qualsevol persona en cas d’emergència davant d’una aturada cardíaca.

URI:https://www.dosrius.cat/actualitat/noticies/4157-dosrius-disposa-dun-nou-dea-a-la-fabrica-la-tortuga.html
CLASS:PUBLIC
END:VEVENT
END:VCALENDAR
