BEGIN:VCALENDAR
VERSION:2.0
CALSCALE:GREGORIAN
PRODID:-//Diputació de Barcelona//DibaCMS//EN
BEGIN:VEVENT
UID:4155
DTSTAMP:20260422T072723
DTSTART:20240302T000000
DTEND:20290309T000000
SUMMARY:8M: Dia Internacional de les Dones a Dosrius
LOCATION:
METHOD:PUBLISH
X-WR-CALNAME:dosrius@dosrius.cat
X-WR-TIMEZONE:Europe/Madrid
DESCRIPTION:
Els dies 7, 8, 10 i 21 de març s’organitzaran al municipi diferents propostes lúdiques i reivindicatives.

URI:https://www.dosrius.cat/actualitat/noticies/8m-dia-internacional-de-les-dones-a-dosrius.html
CLASS:PUBLIC
END:VEVENT
END:VCALENDAR
