BEGIN:VCALENDAR
VERSION:2.0
CALSCALE:GREGORIAN
PRODID:-//Diputació de Barcelona//DibaCMS//EN
BEGIN:VEVENT
UID:4153
DTSTAMP:20260422T072621
DTSTART:20240301T000000
DTEND:20290301T000000
SUMMARY:Els Localets proposen una sortida a la Catalunya Nord
LOCATION:
METHOD:PUBLISH
X-WR-CALNAME:dosrius@dosrius.cat
X-WR-TIMEZONE:Europe/Madrid
DESCRIPTION:
Tindrà lloc els dies 9 i 10 d’abril i inclou autocar, estada a l’hotel (amb règim de pensió completa) i assegurança. 

URI:https://www.dosrius.cat/actualitat/noticies/els-localets-proposen-una-sortida-a-la-catalunya-nord.html
CLASS:PUBLIC
END:VEVENT
END:VCALENDAR
