BEGIN:VCALENDAR
VERSION:2.0
CALSCALE:GREGORIAN
PRODID:-//Diputació de Barcelona//DibaCMS//EN
BEGIN:VEVENT
UID:4152
DTSTAMP:20260422T030218
DTSTART:20240228T000000
DTEND:20290201T000000
SUMMARY:Consulta la qualitat de l’aire i el so a Dosrius en un clic
LOCATION:
METHOD:PUBLISH
X-WR-CALNAME:dosrius@dosrius.cat
X-WR-TIMEZONE:Europe/Madrid
DESCRIPTION:
Gràcies als nodes estàtics bettair, es mesura la qualitat de l'aire i els nivells de soroll ambiental, així com els paràmetres meteorològics de temperatura, humitat relativa i pressió atmosfèrica.

URI:https://www.dosrius.cat/actualitat/noticies/consulta-la-qualitat-de-laire-i-el-so-a-dosrius-en-un-clic.html
CLASS:PUBLIC
END:VEVENT
END:VCALENDAR
