BEGIN:VCALENDAR
VERSION:2.0
CALSCALE:GREGORIAN
PRODID:-//Diputació de Barcelona//DibaCMS//EN
BEGIN:VEVENT
UID:4151
DTSTAMP:20260421T225718
DTSTART:20240228T000000
DTEND:20300208T000000
SUMMARY:L’Associació de la Plataforma per a la Defensa del Medi Ambient i la Salut de Dosrius anuncia una concentració amb talls de carrers
LOCATION:
METHOD:PUBLISH
X-WR-CALNAME:dosrius@dosrius.cat
X-WR-TIMEZONE:Europe/Madrid
DESCRIPTION:
L’entitat ha informat que la concentració tindrà lloc demà, 29 de febrer, de les 9.30 a les 11.30 h, i s’han previst recorreguts alternatius.

URI:https://www.dosrius.cat/actualitat/noticies/lassociacio-de-la-plataforma-per-a-la-defensa-del-medi-ambient-i-la-salut-de-dosrius-anuncia-una-concentracio-amb-talls-de-carrers.html
CLASS:PUBLIC
END:VEVENT
END:VCALENDAR
