BEGIN:VCALENDAR
VERSION:2.0
CALSCALE:GREGORIAN
PRODID:-//Diputació de Barcelona//DibaCMS//EN
BEGIN:VEVENT
UID:4147
DTSTAMP:20260422T025054
DTSTART:20240227T000000
DTEND:20300207T000000
SUMMARY:Can Massuet renova el cablejat elèctric per millorar l’estat de les instal•lacions
LOCATION:
METHOD:PUBLISH
X-WR-CALNAME:dosrius@dosrius.cat
X-WR-TIMEZONE:Europe/Madrid
DESCRIPTION:
Les feines permeten millorar el servei i normativitzar els quadres de llum d’aquesta zona del municipi.

URI:https://www.dosrius.cat/actualitat/noticies/can-massuet-renova-el-cablejat-electric-per-millorar-lestat-de-les-installacions.html
CLASS:PUBLIC
END:VEVENT
END:VCALENDAR
