BEGIN:VCALENDAR
VERSION:2.0
CALSCALE:GREGORIAN
PRODID:-//Diputació de Barcelona//DibaCMS//EN
BEGIN:VEVENT
UID:4146
DTSTAMP:20260422T072649
DTSTART:20240226T000000
DTEND:20290202T000000
SUMMARY:Interrupcions de subministrament a Can Massuet pel manteniment de les instal•lacions elèctriques 
LOCATION:
METHOD:PUBLISH
X-WR-CALNAME:dosrius@dosrius.cat
X-WR-TIMEZONE:Europe/Madrid
DESCRIPTION:
Endesa informa a l’Ajuntament de Dosrius que dijous, 29 de febrer, es faran talls en el subministrament elèctric que afectaran a Can Massuet del Far.

URI:https://www.dosrius.cat/actualitat/noticies/interrupcions-de-subministrament-a-can-massuet-pel-manteniment-de-les-installacions-electriques-.html
CLASS:PUBLIC
END:VEVENT
END:VCALENDAR
