BEGIN:VCALENDAR
VERSION:2.0
CALSCALE:GREGORIAN
PRODID:-//Diputació de Barcelona//DibaCMS//EN
BEGIN:VEVENT
UID:4144
DTSTAMP:20260422T030102
DTSTART:20240223T000000
DTEND:20300208T000000
SUMMARY:Nou taller de cuina a Canyamars: llobarro farcit i postres sorpresa
LOCATION:
METHOD:PUBLISH
X-WR-CALNAME:dosrius@dosrius.cat
X-WR-TIMEZONE:Europe/Madrid
DESCRIPTION:L’activitat tindrà lloc el proper dilluns, 26 de febrer, i per a participar-hi no cal inscripció prèvia.

URI:https://www.dosrius.cat/actualitat/noticies/nou-taller-de-cuina-a-canyamars-llobarro-farcit-i-postres-sorpresa.html
CLASS:PUBLIC
END:VEVENT
END:VCALENDAR
