BEGIN:VCALENDAR
VERSION:2.0
CALSCALE:GREGORIAN
PRODID:-//Diputació de Barcelona//DibaCMS//EN
BEGIN:VEVENT
UID:4135
DTSTAMP:20260422T114248
DTSTART:20240209T000000
DTEND:20300104T000000
SUMMARY:Inici de les obres d’asfaltatge de carrers i col·locació de reductors de velocitat al municipi de Dosrius
LOCATION:
METHOD:PUBLISH
X-WR-CALNAME:dosrius@dosrius.cat
X-WR-TIMEZONE:Europe/Madrid
DESCRIPTION:
Els treballs començaran el proper dilluns, 12 de febrer, un cop finalitzades les obres de reparació de voreres.

URI:https://www.dosrius.cat/actualitat/noticies/inici-de-les-obres-dasfaltatge-de-carrers-i-collocacio-de-reductors-de-velocitat-al-municipi-de-dosrius.html
CLASS:PUBLIC
END:VEVENT
END:VCALENDAR
