BEGIN:VCALENDAR
VERSION:2.0
CALSCALE:GREGORIAN
PRODID:-//Diputació de Barcelona//DibaCMS//EN
BEGIN:VEVENT
UID:4132
DTSTAMP:20260422T055645
DTSTART:20240206T000000
DTEND:20330204T000000
SUMMARY:L’Escola Castell de Dosrius ofereix visites en grups reduïts per conèixer el seu projecte
LOCATION:
METHOD:PUBLISH
X-WR-CALNAME:dosrius@dosrius.cat
X-WR-TIMEZONE:Europe/Madrid
DESCRIPTION:
Es faran el dissabte, 2 de març, a partir de les 10.30 h. El dilluns, 26 de febrer, es convocarà una reunió informativa en format telemàtic.

URI:https://www.dosrius.cat/actualitat/noticies/lescola-castell-de-dosrius-ofereix-visites-en-grups-reduits-per-coneixer-el-seu-projecte.html
CLASS:PUBLIC
END:VEVENT
END:VCALENDAR
