BEGIN:VCALENDAR
VERSION:2.0
CALSCALE:GREGORIAN
PRODID:-//Diputació de Barcelona//DibaCMS//EN
BEGIN:VEVENT
UID:4130
DTSTAMP:20260422T072749
DTSTART:20240205T000000
DTEND:20320214T000000
SUMMARY:Noves interrupcions de subministrament pel manteniment de les instal·lacions elèctriques a Dosrius
LOCATION:
METHOD:PUBLISH
X-WR-CALNAME:dosrius@dosrius.cat
X-WR-TIMEZONE:Europe/Madrid
DESCRIPTION:
Endesa informa a l’Ajuntament de Dosrius que els dies 7 i 10 de febrer es faran talls en el subministrament elèctric a diverses zones del municipi.

URI:https://www.dosrius.cat/actualitat/noticies/noves-interrupcions-de-subministrament-pel-manteniment-de-les-installacions-electriques-a-dosrius.html
CLASS:PUBLIC
END:VEVENT
END:VCALENDAR
