BEGIN:VCALENDAR
VERSION:2.0
CALSCALE:GREGORIAN
PRODID:-//Diputació de Barcelona//DibaCMS//EN
BEGIN:VEVENT
UID:4129
DTSTAMP:20260422T132100
DTSTART:20240205T000000
DTEND:20310201T000000
SUMMARY:L’Arxiu Municipal de Dosrius cedeix tres obres per l’exposició ‘El maresme pintat’ 
LOCATION:
METHOD:PUBLISH
X-WR-CALNAME:dosrius@dosrius.cat
X-WR-TIMEZONE:Europe/Madrid
DESCRIPTION:
Es podrà veure des del 8 de febrer al 12 de maig a l’Ateneu Centre Cultural de la Fundació Iluro de Mataró.

URI:https://www.dosrius.cat/actualitat/noticies/larxiu-municipal-de-dosrius-cedeix-tres-obres-per-lexposicio-el-maresme-pintat-.html
CLASS:PUBLIC
END:VEVENT
END:VCALENDAR
