BEGIN:VCALENDAR
VERSION:2.0
CALSCALE:GREGORIAN
PRODID:-//Diputació de Barcelona//DibaCMS//EN
BEGIN:VEVENT
UID:4128
DTSTAMP:20260422T042517
DTSTART:20240205T000000
DTEND:20310103T000000
SUMMARY: L’Arxiu Municipal de Dosrius dona continuïtat al taller de genealogia amb una segona edició
LOCATION:
METHOD:PUBLISH
X-WR-CALNAME:dosrius@dosrius.cat
X-WR-TIMEZONE:Europe/Madrid
DESCRIPTION:
Després de la gran acollida que va tenir el primer taller que es va realitzar el passat mes de novembre, s’ha decidit fer-ne una nova edició amb una sessió d’iniciació i una segona de seguiment.  

URI:https://www.dosrius.cat/actualitat/noticies/-larxiu-municipal-de-dosrius-dona-continuitat-al-taller-de-genealogia-amb-una-segona-edicio.html
CLASS:PUBLIC
END:VEVENT
END:VCALENDAR
