BEGIN:VCALENDAR
VERSION:2.0
CALSCALE:GREGORIAN
PRODID:-//Diputació de Barcelona//DibaCMS//EN
BEGIN:VEVENT
UID:4121
DTSTAMP:20260422T074021
DTSTART:20240205T000000
DTEND:20300104T000000
SUMMARY:Nous tallers dels Localets: decoupage sobre diferents suports i mirall amb la tècnica del macramé 
LOCATION:
METHOD:PUBLISH
X-WR-CALNAME:dosrius@dosrius.cat
X-WR-TIMEZONE:Europe/Madrid
DESCRIPTION:
Les activitats van a càrrec de 7 Arts Canyamars i compten amb places limitades.

URI:https://www.dosrius.cat/actualitat/noticies/nous-tallers-dels-localets-decoupage-sobre-diferents-suports-i-mirall-amb-la-tecnica-del-macrame-.html
CLASS:PUBLIC
END:VEVENT
END:VCALENDAR
