BEGIN:VCALENDAR
VERSION:2.0
CALSCALE:GREGORIAN
PRODID:-//Diputació de Barcelona//DibaCMS//EN
BEGIN:VEVENT
UID:4120
DTSTAMP:20260422T132133
DTSTART:20240203T000000
DTEND:20300201T000000
SUMMARY:Finalitzen les obres de la carretera d’accés a Can Massuet
LOCATION:
METHOD:PUBLISH
X-WR-CALNAME:dosrius@dosrius.cat
X-WR-TIMEZONE:Europe/Madrid
DESCRIPTION:
Després de quatre mesos de treballs d’acondicionament a la carretera de Can Pruna, aquesta setmana han finalitzat les obres.

URI:https://www.dosrius.cat/actualitat/noticies/finalitzen-les-obres-de-la-carretera-dacces-a-can-massuet.html
CLASS:PUBLIC
END:VEVENT
END:VCALENDAR
