BEGIN:VCALENDAR
VERSION:2.0
CALSCALE:GREGORIAN
PRODID:-//Diputació de Barcelona//DibaCMS//EN
BEGIN:VEVENT
UID:4119
DTSTAMP:20260422T144847
DTSTART:20240202T000000
DTEND:20310201T000000
SUMMARY:Dosrius entra en fase d’emergència per sequera
LOCATION:
METHOD:PUBLISH
X-WR-CALNAME:dosrius@dosrius.cat
X-WR-TIMEZONE:Europe/Madrid
DESCRIPTION:
La fase d’emergència I indica fortes restriccions a tots els sectors i limita el consum a 200 litres per habitant i dia

URI:https://www.dosrius.cat/actualitat/noticies/dosrius-entra-en-fase-demergencia-per-sequera.html
CLASS:PUBLIC
END:VEVENT
END:VCALENDAR
