BEGIN:VCALENDAR
VERSION:2.0
CALSCALE:GREGORIAN
PRODID:-//Diputació de Barcelona//DibaCMS//EN
BEGIN:VEVENT
UID:4115
DTSTAMP:20260422T085003
DTSTART:20240130T000000
DTEND:20310102T000000
SUMMARY:Dosrius es prepara per viure el Carnaval
LOCATION:
METHOD:PUBLISH
X-WR-CALNAME:dosrius@dosrius.cat
X-WR-TIMEZONE:Europe/Madrid
DESCRIPTION:
L’Ajuntament organitza el diumenge 11 de febrer i el dimecres 14 diverses activitats lúdiques per celebrar una de les festivitats més originals i divertides de l’any.

URI:https://www.dosrius.cat/actualitat/noticies/dosrius-es-prepara-per-viure-el-carnaval.html
CLASS:PUBLIC
END:VEVENT
END:VCALENDAR
