BEGIN:VCALENDAR
VERSION:2.0
CALSCALE:GREGORIAN
PRODID:-//Diputació de Barcelona//DibaCMS//EN
BEGIN:VEVENT
UID:4113
DTSTAMP:20260422T100952
DTSTART:20240126T000000
DTEND:20320305T000000
SUMMARY:Darrers talls en la circulació per les obres de la carretera d’accés a Can Massuet
LOCATION:
METHOD:PUBLISH
X-WR-CALNAME:dosrius@dosrius.cat
X-WR-TIMEZONE:Europe/Madrid
DESCRIPTION:
La carretera de Can Pruna es mantindrà tallada el 31 de gener i l’1 i 2 de febrer de 9 a 17 h. Amb aquesta afectació pràcticament finalitzaran els treballs de millora.

URI:https://www.dosrius.cat/actualitat/noticies/darrers-talls-en-la-circulacio-per-les-obres-de-la-carretera-dacces-a-can-massuet.html
CLASS:PUBLIC
END:VEVENT
END:VCALENDAR
