BEGIN:VCALENDAR
VERSION:2.0
CALSCALE:GREGORIAN
PRODID:-//Diputació de Barcelona//DibaCMS//EN
BEGIN:VEVENT
UID:4111
DTSTAMP:20260422T085916
DTSTART:20240126T000000
DTEND:20310102T000000
SUMMARY:Els Localets proposen una sortida al Pou de Glaç per celebrar el Dijous Gras
LOCATION:
METHOD:PUBLISH
X-WR-CALNAME:dosrius@dosrius.cat
X-WR-TIMEZONE:Europe/Madrid
DESCRIPTION:
Serà el proper 8 de febrer i comptarà amb una passejada, esmorzar i una masterclass de càrrec d’en Gerson. 

URI:https://www.dosrius.cat/actualitat/noticies/els-localets-proposen-una-sortida-al-pou-de-glac-per-celebrar-el-dijous-gras.html
CLASS:PUBLIC
END:VEVENT
END:VCALENDAR
