BEGIN:VCALENDAR
VERSION:2.0
CALSCALE:GREGORIAN
PRODID:-//Diputació de Barcelona//DibaCMS//EN
BEGIN:VEVENT
UID:4107
DTSTAMP:20260422T085801
DTSTART:20240123T000000
DTEND:20310103T000000
SUMMARY:Inauguren una exposició dels artistes dosriuencs Ernest Borràs i Berta Julibert
LOCATION:
METHOD:PUBLISH
X-WR-CALNAME:dosrius@dosrius.cat
X-WR-TIMEZONE:Europe/Madrid
DESCRIPTION:
Organitzada per l’Associació Sant Lluc per l’Art, l’exposició BOSC. Ernest Borràs i Berta Julibert es presentarà el divendres, 26 de gener a les 19 h a la Delegació al Maresme del Col·legi d’Arquitectura Tècnica de Barcelona, a Mataró.

URI:https://www.dosrius.cat/actualitat/noticies/inauguren-una-exposicio-dels-artistes-dosriuencs-ernest-borras-i-berta-julibert.html
CLASS:PUBLIC
END:VEVENT
END:VCALENDAR
