BEGIN:VCALENDAR
VERSION:2.0
CALSCALE:GREGORIAN
PRODID:-//Diputació de Barcelona//DibaCMS//EN
BEGIN:VEVENT
UID:4104
DTSTAMP:20260422T085702
DTSTART:20240122T000000
DTEND:20320101T000000
SUMMARY:L’Ajuntament de Dosrius presenta al·legacions sol·licitant que s’anul·li i deixi sense efectes l’acord d’aprovació definitiva del PAE 
LOCATION:
METHOD:PUBLISH
X-WR-CALNAME:dosrius@dosrius.cat
X-WR-TIMEZONE:Europe/Madrid
DESCRIPTION:
El consistori ha presentat al·legacions demanant que s’anul·li i es deixi sense afectes l’acord d’aprovació definitiva del Pla d’Actuació Especial (PAE) per la implantació d’una planta d’aglomerat asfàltic.

URI:https://www.dosrius.cat/actualitat/noticies/lajuntament-de-dosrius-presenta-allegacions-sollicitant-que-sanulli-i-deixi-sense-efectes-lacord-daprovacio-definitiva-del-pae-.html
CLASS:PUBLIC
END:VEVENT
END:VCALENDAR
