BEGIN:VCALENDAR
VERSION:2.0
CALSCALE:GREGORIAN
PRODID:-//Diputació de Barcelona//DibaCMS//EN
BEGIN:VEVENT
UID:4103
DTSTAMP:20260422T084843
DTSTART:20240117T000000
DTEND:20321203T000000
SUMMARY:Prohibit l’estacionament durant les obres d’arranjament dels aparcaments de Can Tarau i del carrer Esteve Albert
LOCATION:
METHOD:PUBLISH
X-WR-CALNAME:dosrius@dosrius.cat
X-WR-TIMEZONE:Europe/Madrid
DESCRIPTION:
L’Ajuntament de Dosrius informa que el proper dilluns, 22 de gener, no es podrà estacionar a l'aparcament de Can Tarau (entrada del municipi) i l'endemà dimarts, 23 de gener, a l'aparcament del carrer Esteve Albert (costat dret de la riera).

URI:https://www.dosrius.cat/actualitat/noticies/prohibit-lestacionament-durant-les-obres-darranjament-dels-aparcaments-de-can-tarau-i-del-carrer-esteve-albert.html
CLASS:PUBLIC
END:VEVENT
END:VCALENDAR
