BEGIN:VCALENDAR
VERSION:2.0
CALSCALE:GREGORIAN
PRODID:-//Diputació de Barcelona//DibaCMS//EN
BEGIN:VEVENT
UID:4102
DTSTAMP:20260422T161634
DTSTART:20240112T000000
DTEND:20310103T000000
SUMMARY:El 2023 del Servei Local d’Ocupació de Dosrius, en xifres
LOCATION:
METHOD:PUBLISH
X-WR-CALNAME:dosrius@dosrius.cat
X-WR-TIMEZONE:Europe/Madrid
DESCRIPTION:
L’Ajuntament de Dosrius recull en una infografia els resultats anuals del Servei Local d’Ocupació.

URI:https://www.dosrius.cat/actualitat/noticies/el-2023-del-servei-local-docupacio-de-dosrius-en-xifres.html
CLASS:PUBLIC
END:VEVENT
END:VCALENDAR
