BEGIN:VCALENDAR
VERSION:2.0
CALSCALE:GREGORIAN
PRODID:-//Diputació de Barcelona//DibaCMS//EN
BEGIN:VEVENT
UID:4098
DTSTAMP:20260422T090359
DTSTART:20240105T000000
DTEND:20300104T000000
SUMMARY:El camp municipal de futbol de Can Batlle ja llueix nou enllumenat
LOCATION:
METHOD:PUBLISH
X-WR-CALNAME:dosrius@dosrius.cat
X-WR-TIMEZONE:Europe/Madrid
DESCRIPTION:
L’Ajuntament acaba de renovar l’enllumenat de l’equipament, amb una inversió de 28.120 €

URI:https://www.dosrius.cat/actualitat/noticies/el-camp-municipal-de-futbol-de-can-batlle-ja-llueix-nou-enllumenat.html
CLASS:PUBLIC
END:VEVENT
END:VCALENDAR
