BEGIN:VCALENDAR
VERSION:2.0
CALSCALE:GREGORIAN
PRODID:-//Diputació de Barcelona//DibaCMS//EN
BEGIN:VEVENT
UID:4097
DTSTAMP:20260422T192657
DTSTART:20240104T000000
DTEND:20320109T000000
SUMMARY:Suspesa la Cavalcada de Reis a Dosrius per la previsió meteorològica
LOCATION:
METHOD:PUBLISH
X-WR-CALNAME:dosrius@dosrius.cat
X-WR-TIMEZONE:Europe/Madrid
DESCRIPTION:
L’Ajuntament ha pres aquesta decisió després de la consulta realitzada a Meteomar, i de contrastar-la amb altres prediccions, i ha decidit organitzar tres recepcions perquè els infants puguin entregar les cartes i rebre caramels de Ses Majestats els Reis d’Orient. 

URI:https://www.dosrius.cat/actualitat/noticies/suspesa-la-cavalcada-de-reis-a-dosrius-per-la-previsio-meteorologica.html
CLASS:PUBLIC
END:VEVENT
END:VCALENDAR
