BEGIN:VCALENDAR
VERSION:2.0
CALSCALE:GREGORIAN
PRODID:-//Diputació de Barcelona//DibaCMS//EN
BEGIN:VEVENT
UID:4096
DTSTAMP:20260422T163602
DTSTART:20231229T000000
DTEND:20301206T000000
SUMMARY:Afectacions en la circulació per les obres de la carretera d’accés a Can Massuet
LOCATION:
METHOD:PUBLISH
X-WR-CALNAME:dosrius@dosrius.cat
X-WR-TIMEZONE:Europe/Madrid
DESCRIPTION:
La carretera de Can Pruna es mantindrà tallada del 8 al 12 de gener i el 15 i 16 de gener de 9 a 17 h. L’accés a Can Massuet es farà des de Can Bordoi. 

URI:https://www.dosrius.cat/actualitat/noticies/4096-afectacions-en-la-circulacio-per-les-obres-de-la-carretera-dacces-a-can-massuet.html
CLASS:PUBLIC
END:VEVENT
END:VCALENDAR
