BEGIN:VCALENDAR
VERSION:2.0
CALSCALE:GREGORIAN
PRODID:-//Diputació de Barcelona//DibaCMS//EN
BEGIN:VEVENT
UID:4089
DTSTAMP:20260422T131924
DTSTART:20231219T000000
DTEND:20341208T000000
SUMMARY:22 de desembre: Ple municipal ordinari
LOCATION:
METHOD:PUBLISH
X-WR-CALNAME:dosrius@dosrius.cat
X-WR-TIMEZONE:Europe/Madrid
DESCRIPTION:La sessió tindrà lloc a la Sala de Plens a les 10.00 h i es podrà seguir en directe a través del canal de YouTube de l'Ajuntament.

URI:https://www.dosrius.cat/actualitat/noticies/4089-22-de-desembre-ple-municipal-ordinari.html
CLASS:PUBLIC
END:VEVENT
END:VCALENDAR
