BEGIN:VCALENDAR
VERSION:2.0
CALSCALE:GREGORIAN
PRODID:-//Diputació de Barcelona//DibaCMS//EN
BEGIN:VEVENT
UID:4088
DTSTAMP:20260422T101029
DTSTART:20231214T000000
DTEND:20361204T000000
SUMMARY:Tots els canals de TDT emetran en alta definició (HD) a partir del 14 de febrer
LOCATION:
METHOD:PUBLISH
X-WR-CALNAME:dosrius@dosrius.cat
X-WR-TIMEZONE:Europe/Madrid
DESCRIPTION:
Com a conseqüència, les llars podran patir algunes incidències i es demana que s’adrecin els dubtes l’Oficina d’Atenció a la Televisión Digital de la Secretaria d’Estat de Telecomunicacions i Infraestructures Digitals.

URI:https://www.dosrius.cat/actualitat/noticies/tots-els-canals-de-tdt-emetran-en-alta-definicio-hd-a-partir-del-14-de-febrer.html
CLASS:PUBLIC
END:VEVENT
END:VCALENDAR
