BEGIN:VCALENDAR
VERSION:2.0
CALSCALE:GREGORIAN
PRODID:-//Diputació de Barcelona//DibaCMS//EN
BEGIN:VEVENT
UID:4081
DTSTAMP:20260422T174436
DTSTART:20231204T000000
DTEND:20321203T000000
SUMMARY:Dosrius recorda Esteve Albert amb una glossa i lectura de textos i poemes
LOCATION:
METHOD:PUBLISH
X-WR-CALNAME:dosrius@dosrius.cat
X-WR-TIMEZONE:Europe/Madrid
DESCRIPTION:
En l’acte es llegiran escrits que el poeta, autor teatral, historiador i promotor cultural dosriuenc va dedicar al poble.

URI:https://www.dosrius.cat/actualitat/noticies/dosrius-recorda-esteve-albert-amb-una-glossa-i-lectura-de-textos-i-poemes.html
CLASS:PUBLIC
END:VEVENT
END:VCALENDAR
