BEGIN:VCALENDAR
VERSION:2.0
CALSCALE:GREGORIAN
PRODID:-//Diputació de Barcelona//DibaCMS//EN
BEGIN:VEVENT
UID:4080
DTSTAMP:20260422T174453
DTSTART:20231201T000000
DTEND:20351102T000000
SUMMARY:Quatre dosriuencs, premiats en la XL Mostra Literària del Maresme
LOCATION:
METHOD:PUBLISH
X-WR-CALNAME:dosrius@dosrius.cat
X-WR-TIMEZONE:Europe/Madrid
DESCRIPTION:
Elena Julià, Pere Comeche, Ian Lupo i Aimar Pérez es van endur dos guardons i dos accèssits en el lliurament en el qual va participar l’alcaldessa Sílvia Garrido.

URI:https://www.dosrius.cat/actualitat/noticies/quatre-dosriuencs-premiats-en-la-xl-mostra-literaria-del-maresme.html
CLASS:PUBLIC
END:VEVENT
END:VCALENDAR
