BEGIN:VCALENDAR
VERSION:2.0
CALSCALE:GREGORIAN
PRODID:-//Diputació de Barcelona//DibaCMS//EN
BEGIN:VEVENT
UID:4079
DTSTAMP:20260422T211238
DTSTART:20231201T000000
DTEND:20331104T000000
SUMMARY:Dosrius celebra la quarta edició de la Fira Municipal de Santa Llúcia
LOCATION:
METHOD:PUBLISH
X-WR-CALNAME:dosrius@dosrius.cat
X-WR-TIMEZONE:Europe/Madrid
DESCRIPTION:
Tindrà lloc el dissabte 16 de desembre de 10 a 14h a la plaça del Comú de Dosrius.

URI:https://www.dosrius.cat/actualitat/noticies/dosrius-celebra-la-quarta-edicio-de-la-fira-municipal-de-santa-llucia.html
CLASS:PUBLIC
END:VEVENT
END:VCALENDAR
