BEGIN:VCALENDAR
VERSION:2.0
CALSCALE:GREGORIAN
PRODID:-//Diputació de Barcelona//DibaCMS//EN
BEGIN:VEVENT
UID:4074
DTSTAMP:20260422T184812
DTSTART:20231124T000000
DTEND:20311108T000000
SUMMARY:36 persones participen en la donació de sang a Dosrius
LOCATION:
METHOD:PUBLISH
X-WR-CALNAME:dosrius@dosrius.cat
X-WR-TIMEZONE:Europe/Madrid
DESCRIPTION:
El Banc de Sang i Teixits va visitar el municipi el passat dijous, 23 de novembre.

URI:https://www.dosrius.cat/actualitat/noticies/36-persones-participen-en-la-donacio-de-sang-a-dosrius.html
CLASS:PUBLIC
END:VEVENT
END:VCALENDAR
