BEGIN:VCALENDAR
VERSION:2.0
CALSCALE:GREGORIAN
PRODID:-//Diputació de Barcelona//DibaCMS//EN
BEGIN:VEVENT
UID:4071
DTSTAMP:20260422T192811
DTSTART:20231123T000000
DTEND:20241122T000000
SUMMARY:Col·labora en la redacció del nou Pla Local per a la igualtat de Gènere!
LOCATION:
METHOD:PUBLISH
X-WR-CALNAME:dosrius@dosrius.cat
X-WR-TIMEZONE:Europe/Madrid
DESCRIPTION:

L'Ajuntament de Dosrius i l'Observatori Noctàmbul@s, estan impulsant un Pla Local per a la Igualtat de Gènere del municipi.


 

URI:https://www.dosrius.cat/actualitat/noticies/collabora-en-la-redaccio-del-nou-pla-local-per-a-la-igualtat-de-genere.html
CLASS:PUBLIC
END:VEVENT
END:VCALENDAR
