BEGIN:VCALENDAR
VERSION:2.0
CALSCALE:GREGORIAN
PRODID:-//Diputació de Barcelona//DibaCMS//EN
BEGIN:VEVENT
UID:4066
DTSTAMP:20260422T145526
DTSTART:20231117T000000
DTEND:20341111T000000
SUMMARY:Nous passos en el projecte de la nova Biblioteca municipal Esteve Albert i Corp de Dosrius
LOCATION:
METHOD:PUBLISH
X-WR-CALNAME:dosrius@dosrius.cat
X-WR-TIMEZONE:Europe/Madrid
DESCRIPTION:
La Junta de Govern Local va aprovar inicialment el projecte, que costarà 2.369.663,46 € i comptarà amb una subvenció del Departament de Cultura de la Generalitat d’1.034.361,56€

URI:https://www.dosrius.cat/actualitat/noticies/nous-passos-en-el-projecte-de-la-nova-biblioteca-municipal-esteve-albert-i-corp-de-dosrius.html
CLASS:PUBLIC
END:VEVENT
END:VCALENDAR
