BEGIN:VCALENDAR
VERSION:2.0
CALSCALE:GREGORIAN
PRODID:-//Diputació de Barcelona//DibaCMS//EN
BEGIN:VEVENT
UID:4061
DTSTAMP:20260422T174238
DTSTART:20231114T000000
DTEND:20361101T000000
SUMMARY:Nous talls per les obres de la carretera d’accés a Can Massuet
LOCATION:
METHOD:PUBLISH
X-WR-CALNAME:dosrius@dosrius.cat
X-WR-TIMEZONE:Europe/Madrid
DESCRIPTION:
La carretera de Can Pruna es mantindrà tallada els dies 20, 21 i 22 de novembre de 9 a 17 h i l’accés a Can Massuet es farà des de Can Bordoi.

URI:https://www.dosrius.cat/actualitat/noticies/nous-talls-per-les-obres-de-la-carretera-dacces-a-can-massuet.html
CLASS:PUBLIC
END:VEVENT
END:VCALENDAR
