BEGIN:VCALENDAR
VERSION:2.0
CALSCALE:GREGORIAN
PRODID:-//Diputació de Barcelona//DibaCMS//EN
BEGIN:VEVENT
UID:4057
DTSTAMP:20260422T055544
DTSTART:20231113T000000
DTEND:20241112T000000
SUMMARY:Comencen les feines de millora i arranjament de camins
LOCATION:
METHOD:PUBLISH
X-WR-CALNAME:dosrius@dosrius.cat
X-WR-TIMEZONE:Europe/Madrid
DESCRIPTION:
L’actuació s’emmarca en el Pla de prevenció municipal d’incendis forestals i s’estén en una superfície de 18,80 quilòmetres.

URI:https://www.dosrius.cat/actualitat/noticies/comencen-les-feines-de-millora-i-arranjament-de-camins.html
CLASS:PUBLIC
END:VEVENT
END:VCALENDAR
