BEGIN:VCALENDAR
VERSION:2.0
CALSCALE:GREGORIAN
PRODID:-//Diputació de Barcelona//DibaCMS//EN
BEGIN:VEVENT
UID:4055
DTSTAMP:20260422T090409
DTSTART:20231110T000000
DTEND:20241109T000000
SUMMARY:Torna la Festa Major d’Hivern de Dosrius, que se celebrarà el 17, 18 i 19 de novembre
LOCATION:
METHOD:PUBLISH
X-WR-CALNAME:dosrius@dosrius.cat
X-WR-TIMEZONE:Europe/Madrid
DESCRIPTION:
Durant tres dies els veïns i veïnes podran gaudir de diferents propostes per a tots els públics en el marc de la Festa Major de Sant Iscle i Santa Victòria.

URI:https://www.dosrius.cat/actualitat/noticies/torna-la-festa-major-dhivern-de-dosrius-que-se-celebrara-el-17-18-i-19-de-novembre.html
CLASS:PUBLIC
END:VEVENT
END:VCALENDAR
