BEGIN:VCALENDAR
VERSION:2.0
CALSCALE:GREGORIAN
PRODID:-//Diputació de Barcelona//DibaCMS//EN
BEGIN:VEVENT
UID:4053
DTSTAMP:20260422T163846
DTSTART:20231109T000000
DTEND:20241108T000000
SUMMARY:10 de novembre: Ple municipal extraordinari
LOCATION:
METHOD:PUBLISH
X-WR-CALNAME:dosrius@dosrius.cat
X-WR-TIMEZONE:Europe/Madrid
DESCRIPTION:La sessió tindrà lloc a la Sala de Plens a les 08.30 h i es podrà seguir en directe a través del canal de YouTube de l'Ajuntament.

URI:https://www.dosrius.cat/actualitat/noticies/10-de-novembre-ple-municipal-extraordinari.html
CLASS:PUBLIC
END:VEVENT
END:VCALENDAR
