BEGIN:VCALENDAR
VERSION:2.0
CALSCALE:GREGORIAN
PRODID:-//Diputació de Barcelona//DibaCMS//EN
BEGIN:VEVENT
UID:4051
DTSTAMP:20260422T042446
DTSTART:20231108T000000
DTEND:20241107T000000
SUMMARY:Torna la sortida nadalenca a la vila del Papa Noël de Le Barcarès, al sud de França
LOCATION:
METHOD:PUBLISH
X-WR-CALNAME:dosrius@dosrius.cat
X-WR-TIMEZONE:Europe/Madrid
DESCRIPTION:Després de l’èxit dels darrers anys, es proposa una nova sortida per visitar un dels pobles amb més encant durant les festes nadalenques gràcies a la seva decoració i fira amb atraccions.

URI:https://www.dosrius.cat/actualitat/noticies/torna-la-sortida-nadalenca-a-la-vila-del-papa-noel-de-le-barcares-al-sud-de-franca.html
CLASS:PUBLIC
END:VEVENT
END:VCALENDAR
