BEGIN:VCALENDAR
VERSION:2.0
CALSCALE:GREGORIAN
PRODID:-//Diputació de Barcelona//DibaCMS//EN
BEGIN:VEVENT
UID:405
DTSTAMP:20260422T110107
DTSTART:20160831T142000
DTEND:20170831T142000
SUMMARY:Dosrius signa un conveni amb Creu Roja per a la realització d'activitats socials
LOCATION:
METHOD:PUBLISH
X-WR-CALNAME:dosrius@dosrius.cat
X-WR-TIMEZONE:Europe/Madrid
DESCRIPTION:L'ajuntament col·laborarà amb l'organització sense ànim de lucre amb una aportació de 7.000€ per al 2016

URI:https://www.dosrius.cat/actualitat/noticies/dosrius-signa-un-conveni-amb-creu-roja-per-a-la-realitzacio-dactivitats-socials.html
CLASS:PUBLIC
END:VEVENT
END:VCALENDAR
