BEGIN:VCALENDAR
VERSION:2.0
CALSCALE:GREGORIAN
PRODID:-//Diputació de Barcelona//DibaCMS//EN
BEGIN:VEVENT
UID:4049
DTSTAMP:20260422T073411
DTSTART:20231106T000000
DTEND:20371029T000000
SUMMARY:Punts clau de la nova llei de protecció dels drets i el benestar dels animals
LOCATION:
METHOD:PUBLISH
X-WR-CALNAME:dosrius@dosrius.cat
X-WR-TIMEZONE:Europe/Madrid
DESCRIPTION:
El Consell de Col·legis Veterinaris de Catalunya informa dels aspectes més rellevants de la nova llei 7/2023, que van entrar en vigor el passat mes de setembre.

URI:https://www.dosrius.cat/actualitat/noticies/punts-clau-de-la-nova-llei-de-proteccio-dels-drets-i-el-benestar-dels-animals.html
CLASS:PUBLIC
END:VEVENT
END:VCALENDAR
