BEGIN:VCALENDAR
VERSION:2.0
CALSCALE:GREGORIAN
PRODID:-//Diputació de Barcelona//DibaCMS//EN
BEGIN:VEVENT
UID:4048
DTSTAMP:20260422T161734
DTSTART:20231103T000000
DTEND:20241102T000000
SUMMARY:Afectacions en la circulació per les obres de la carretera d’accés a Can Massuet
LOCATION:
METHOD:PUBLISH
X-WR-CALNAME:dosrius@dosrius.cat
X-WR-TIMEZONE:Europe/Madrid
DESCRIPTION:
La carretera de Can Pruna es mantindrà tallada del 7 al 10 de novembre de 9 a 17 h i l’accés a Can Massuet es farà des de Can Bordoi.

URI:https://www.dosrius.cat/actualitat/noticies/afectacions-en-la-circulacio-per-les-obres-de-la-carretera-dacces-a-can-massuet.html
CLASS:PUBLIC
END:VEVENT
END:VCALENDAR
