BEGIN:VCALENDAR
VERSION:2.0
CALSCALE:GREGORIAN
PRODID:-//Diputació de Barcelona//DibaCMS//EN
BEGIN:VEVENT
UID:4046
DTSTAMP:20260422T072546
DTSTART:20231103T000000
DTEND:20241102T000000
SUMMARY:Comencen els treballs forestals de protecció per a la prevenció d’incendis a Dosrius
LOCATION:
METHOD:PUBLISH
X-WR-CALNAME:dosrius@dosrius.cat
X-WR-TIMEZONE:Europe/Madrid
DESCRIPTION:
Les feines de manteniment es faran a Can Valls, Can Canyamars, Can Figueres i el Castell amb l’objectiu de reduir el risc de propagació d’incendi a les zones interiors del nucli o urbanitzacions. 

URI:https://www.dosrius.cat/actualitat/noticies/comencen-els-treballs-forestals-de-proteccio-per-a-la-prevencio-dincendis-a-dosrius.html
CLASS:PUBLIC
END:VEVENT
END:VCALENDAR
