BEGIN:VCALENDAR
VERSION:2.0
CALSCALE:GREGORIAN
PRODID:-//Diputació de Barcelona//DibaCMS//EN
BEGIN:VEVENT
UID:4045
DTSTAMP:20260422T073341
DTSTART:20231102T000000
DTEND:20361031T000000
SUMMARY:Ets resident estranger i vols votar a les eleccions europees del 2024?
LOCATION:
METHOD:PUBLISH
X-WR-CALNAME:dosrius@dosrius.cat
X-WR-TIMEZONE:Europe/Madrid
DESCRIPTION:
Si ets ciutadà de la Unió Europea, no espanyol i resideixes a Espanya, pots manifestar la teva voluntat de votar a les eleccions del Parlament Europeu del 9 de juny del 2024. Tens temps a fer-ho fins al 30 de gener.

URI:https://www.dosrius.cat/actualitat/noticies/ets-resident-estranger-i-vols-votar-a-les-eleccions-europees-del-2024.html
CLASS:PUBLIC
END:VEVENT
END:VCALENDAR
