BEGIN:VCALENDAR
VERSION:2.0
CALSCALE:GREGORIAN
PRODID:-//Diputació de Barcelona//DibaCMS//EN
BEGIN:VEVENT
UID:4044
DTSTAMP:20260422T074203
DTSTART:20231102T000000
DTEND:20241101T000000
SUMMARY:Tall de subministrament elèctric a Can Massuet del Far per tasques de manteniment
LOCATION:
METHOD:PUBLISH
X-WR-CALNAME:dosrius@dosrius.cat
X-WR-TIMEZONE:Europe/Madrid
DESCRIPTION:Endesa informa que a causa de treballs de manteniment en les instal·lacions interrompran el servei el dimarts, 7 de novembre, al matí.

URI:https://www.dosrius.cat/actualitat/noticies/tall-de-subministrament-electric-a-can-massuet-del-far-per-tasques-de-manteniment.html
CLASS:PUBLIC
END:VEVENT
END:VCALENDAR
