BEGIN:VCALENDAR
VERSION:2.0
CALSCALE:GREGORIAN
PRODID:-//Diputació de Barcelona//DibaCMS//EN
BEGIN:VEVENT
UID:4043
DTSTAMP:20260422T114211
DTSTART:20231031T000000
DTEND:20260801T000000
SUMMARY:Dosrius posa el focus en el càncer de mama amb la doctora Maribel Nieto i la dissenyadora Carme Jo
LOCATION:
METHOD:PUBLISH
X-WR-CALNAME:dosrius@dosrius.cat
X-WR-TIMEZONE:Europe/Madrid
DESCRIPTION:La trobada, organitzada per la Regidoria de Serveis Socials de l’Ajuntament, es va celebrar ahir 30 d’octubre, i va reunir una vintena de persones

URI:https://www.dosrius.cat/actualitat/noticies/dosrius-posa-el-focus-en-el-cancer-de-mama-amb-la-doctora-maribel-nieto-i-la-dissenyadora-carme-jo.html
CLASS:PUBLIC
END:VEVENT
END:VCALENDAR
