BEGIN:VCALENDAR
VERSION:2.0
CALSCALE:GREGORIAN
PRODID:-//Diputació de Barcelona//DibaCMS//EN
BEGIN:VEVENT
UID:4036
DTSTAMP:20260422T132224
DTSTART:20231018T160000
DTEND:20481016T000000
SUMMARY:Apunta’t al taller de Nadal amb els Localets i 7 Arts Canyamars
LOCATION:
METHOD:PUBLISH
X-WR-CALNAME:dosrius@dosrius.cat
X-WR-TIMEZONE:Europe/Madrid
DESCRIPTION:Els i les participants aprendran a fer un tapís o una corona de Nadal amb la tècnica del macramé.

URI:https://www.dosrius.cat/actualitat/noticies/apuntat-al-taller-de-nadal-amb-els-localets-i-7-arts-canyamars.html
CLASS:PUBLIC
END:VEVENT
END:VCALENDAR
