BEGIN:VCALENDAR
VERSION:2.0
CALSCALE:GREGORIAN
PRODID:-//Diputació de Barcelona//DibaCMS//EN
BEGIN:VEVENT
UID:4029
DTSTAMP:20260422T175704
DTSTART:20230925T000000
DTEND:20481010T000000
SUMMARY:Can Massuet del Far tanca les festes majors d’aquest 2023 amb una gran festivitat
LOCATION:
METHOD:PUBLISH
X-WR-CALNAME:dosrius@dosrius.cat
X-WR-TIMEZONE:Europe/Madrid
DESCRIPTION:L’Ajuntament felicita a la Comissió de Festes de Can Massuet del Far i a totes les entitats implicades pel gran èxit organitzatiu i de participació de la Festa Major.

URI:https://www.dosrius.cat/actualitat/noticies/can-massuet-del-far-tanca-les-festes-majors-daquest-2023-amb-una-gran-festivitat.html
CLASS:PUBLIC
END:VEVENT
END:VCALENDAR
